BEGIN:VCALENDAR
VERSION:2.0
PRODID:-//Sampil - ECPv6.15.15//NONSGML v1.0//EN
CALSCALE:GREGORIAN
METHOD:PUBLISH
X-ORIGINAL-URL:https://sampil.fr
X-WR-CALDESC:Évènements pour Sampil
REFRESH-INTERVAL;VALUE=DURATION:PT1H
X-Robots-Tag:noindex
X-PUBLISHED-TTL:PT1H
BEGIN:VTIMEZONE
TZID:Europe/Paris
BEGIN:DAYLIGHT
TZOFFSETFROM:+0100
TZOFFSETTO:+0200
TZNAME:CEST
DTSTART:20040328T010000
END:DAYLIGHT
BEGIN:STANDARD
TZOFFSETFROM:+0200
TZOFFSETTO:+0100
TZNAME:CET
DTSTART:20041031T010000
END:STANDARD
BEGIN:DAYLIGHT
TZOFFSETFROM:+0100
TZOFFSETTO:+0200
TZNAME:CEST
DTSTART:20050327T010000
END:DAYLIGHT
BEGIN:STANDARD
TZOFFSETFROM:+0200
TZOFFSETTO:+0100
TZNAME:CET
DTSTART:20051030T010000
END:STANDARD
BEGIN:DAYLIGHT
TZOFFSETFROM:+0100
TZOFFSETTO:+0200
TZNAME:CEST
DTSTART:20060326T010000
END:DAYLIGHT
BEGIN:STANDARD
TZOFFSETFROM:+0200
TZOFFSETTO:+0100
TZNAME:CET
DTSTART:20061029T010000
END:STANDARD
END:VTIMEZONE
BEGIN:VEVENT
DTSTART;TZID=Europe/Paris:20050601T200000
DTEND;TZID=Europe/Paris:20050601T220000
DTSTAMP:20260424T090346
CREATED:20050515T122245Z
LAST-MODIFIED:20190404T172532Z
UID:316-1117656000-1117663200@sampil.fr
SUMMARY:Transfert d'embryon unique
DESCRIPTION:Jean Luc Pouly\nTransfert d’embryon unique – Application et résultats \nJean Paul Taar\nTransfert d’embryon unique – Applications pour le biologiste \nDominique Cornet\nTransfert d’embryon unique – Applications pour le clinicien
URL:https://sampil.fr/event/transfert-dembryon-unique/
LOCATION:Crowne Plaza Neuilly\, 58 Boulevard Victor Hugo\, Neuilly-sur-Seine\, 92200\, France
END:VEVENT
END:VCALENDAR