BEGIN:VCALENDAR
VERSION:2.0
PRODID:-//Sampil - ECPv6.15.15//NONSGML v1.0//EN
CALSCALE:GREGORIAN
METHOD:PUBLISH
X-WR-CALNAME:Sampil
X-ORIGINAL-URL:https://sampil.fr
X-WR-CALDESC:Évènements pour Sampil
REFRESH-INTERVAL;VALUE=DURATION:PT1H
X-Robots-Tag:noindex
X-PUBLISHED-TTL:PT1H
BEGIN:VTIMEZONE
TZID:Europe/Paris
BEGIN:DAYLIGHT
TZOFFSETFROM:+0100
TZOFFSETTO:+0200
TZNAME:CEST
DTSTART:20250330T010000
END:DAYLIGHT
BEGIN:STANDARD
TZOFFSETFROM:+0200
TZOFFSETTO:+0100
TZNAME:CET
DTSTART:20251026T010000
END:STANDARD
BEGIN:DAYLIGHT
TZOFFSETFROM:+0100
TZOFFSETTO:+0200
TZNAME:CEST
DTSTART:20260329T010000
END:DAYLIGHT
BEGIN:STANDARD
TZOFFSETFROM:+0200
TZOFFSETTO:+0100
TZNAME:CET
DTSTART:20261025T010000
END:STANDARD
BEGIN:DAYLIGHT
TZOFFSETFROM:+0100
TZOFFSETTO:+0200
TZNAME:CEST
DTSTART:20270328T010000
END:DAYLIGHT
BEGIN:STANDARD
TZOFFSETFROM:+0200
TZOFFSETTO:+0100
TZNAME:CET
DTSTART:20271031T010000
END:STANDARD
END:VTIMEZONE
BEGIN:VEVENT
DTSTART;TZID=Europe/Paris:20260312T193000
DTEND;TZID=Europe/Paris:20260312T220000
DTSTAMP:20260419T205222
CREATED:20260206T142105Z
LAST-MODIFIED:20260206T142105Z
UID:741-1773343800-1773352800@sampil.fr
SUMMARY:LES AJUSTEMENTS HORMONAUX EN AMP
DESCRIPTION:Changer la prise en charge\nProgramme et inscription 12 MARS 2026 \nCocktail dinatoire dès 19h30 \n\n20h30 – 20h50 RȎLE DE LA LH EN PHYSIOLOGIE\n– Laetitia Jacquesson – endocrinologue\, PARIS\n20h50 – 21h10 ANALOGUES DE GLP1 EN PMA\n– Cécile Ciangura – endocrinologue\, PARIS\n21h10 – 21h30 STIMULATION DE LA SPERMATOGÉNÈSE\n– William Akakpo – urologue-andrologue\, PARIS\n\n 
URL:https://sampil.fr/event/les-ajustements-hormonaux-en-amp/
LOCATION:Hôtel Bedford\, Paris\, 17 rue de l'Arcade\, Paris\, 75008
ATTACH;FMTTYPE=image/jpeg:https://sampil.fr/wp-content/uploads/2019/09/ovospz-sampil.jpg
END:VEVENT
END:VCALENDAR