BEGIN:VCALENDAR
VERSION:2.0
PRODID:-//Sampil - ECPv6.15.15//NONSGML v1.0//EN
CALSCALE:GREGORIAN
METHOD:PUBLISH
X-WR-CALNAME:Sampil
X-ORIGINAL-URL:https://sampil.fr
X-WR-CALDESC:Évènements pour Sampil
REFRESH-INTERVAL;VALUE=DURATION:PT1H
X-Robots-Tag:noindex
X-PUBLISHED-TTL:PT1H
BEGIN:VTIMEZONE
TZID:Europe/Paris
BEGIN:DAYLIGHT
TZOFFSETFROM:+0100
TZOFFSETTO:+0200
TZNAME:CEST
DTSTART:20240331T010000
END:DAYLIGHT
BEGIN:STANDARD
TZOFFSETFROM:+0200
TZOFFSETTO:+0100
TZNAME:CET
DTSTART:20241027T010000
END:STANDARD
BEGIN:DAYLIGHT
TZOFFSETFROM:+0100
TZOFFSETTO:+0200
TZNAME:CEST
DTSTART:20250330T010000
END:DAYLIGHT
BEGIN:STANDARD
TZOFFSETFROM:+0200
TZOFFSETTO:+0100
TZNAME:CET
DTSTART:20251026T010000
END:STANDARD
BEGIN:DAYLIGHT
TZOFFSETFROM:+0100
TZOFFSETTO:+0200
TZNAME:CEST
DTSTART:20260329T010000
END:DAYLIGHT
BEGIN:STANDARD
TZOFFSETFROM:+0200
TZOFFSETTO:+0100
TZNAME:CET
DTSTART:20261025T010000
END:STANDARD
END:VTIMEZONE
BEGIN:VEVENT
DTSTART;TZID=Europe/Paris:20250710T190000
DTEND;TZID=Europe/Paris:20250710T220000
DTSTAMP:20260422T075019
CREATED:20250614T144638Z
LAST-MODIFIED:20250725T135138Z
UID:717-1752174000-1752184800@sampil.fr
SUMMARY:L'AMP : Tourisme parisien et international
DESCRIPTION:AMP – Tourisme parisien et international (programme et inscription) \nLes diaporamas de la soirée \nCocktail dinatoire dès 19h30 \n\nSondage interactif avec la salle sur le tourisme parisien\, par Arthur Clément – Laboratoire Clément – Paris\n20h30 – 21h00 SITUATION DU DON D’OVOCYTES EN FRANCE\n– Céline CHALAS – CECOS Port Royal – Paris\n21h00 – 21h15 OU EN SOMMES-NOUS AVEC LA PRÉSERVATION DE FERTILITÉ SOCIÉTALE EN FRANCE ?\n– Laure CHENOZ – IMM Paris\n21h15 – 21h45 PEUT-ON IMPORTER DES GAMÈTES EN FRANCE ?\n– Silvia ALVAREZ – Données de l’ABM\n– LES COUTS DE LA PMA A L’ÉTRANGER ET LA PRISE EN CHARGE FRANÇAISE\n\n 
URL:https://sampil.fr/event/lamp-tourisme-parisien-et-international/
LOCATION:Hôtel Bedford\, Paris\, 17 rue de l'Arcade\, Paris\, 75008
ATTACH;FMTTYPE=image/jpeg:https://sampil.fr/wp-content/uploads/2019/09/ovospz-sampil.jpg
END:VEVENT
END:VCALENDAR