BEGIN:VCALENDAR
VERSION:2.0
PRODID:-//Sampil - ECPv6.15.15//NONSGML v1.0//EN
CALSCALE:GREGORIAN
METHOD:PUBLISH
X-WR-CALNAME:Sampil
X-ORIGINAL-URL:https://sampil.fr
X-WR-CALDESC:Évènements pour Sampil
REFRESH-INTERVAL;VALUE=DURATION:PT1H
X-Robots-Tag:noindex
X-PUBLISHED-TTL:PT1H
BEGIN:VTIMEZONE
TZID:Europe/Paris
BEGIN:DAYLIGHT
TZOFFSETFROM:+0100
TZOFFSETTO:+0200
TZNAME:CEST
DTSTART:20060326T010000
END:DAYLIGHT
BEGIN:STANDARD
TZOFFSETFROM:+0200
TZOFFSETTO:+0100
TZNAME:CET
DTSTART:20061029T010000
END:STANDARD
BEGIN:DAYLIGHT
TZOFFSETFROM:+0100
TZOFFSETTO:+0200
TZNAME:CEST
DTSTART:20070325T010000
END:DAYLIGHT
BEGIN:STANDARD
TZOFFSETFROM:+0200
TZOFFSETTO:+0100
TZNAME:CET
DTSTART:20071028T010000
END:STANDARD
BEGIN:DAYLIGHT
TZOFFSETFROM:+0100
TZOFFSETTO:+0200
TZNAME:CEST
DTSTART:20080330T010000
END:DAYLIGHT
BEGIN:STANDARD
TZOFFSETFROM:+0200
TZOFFSETTO:+0100
TZNAME:CET
DTSTART:20081026T010000
END:STANDARD
END:VTIMEZONE
BEGIN:VEVENT
DTSTART;TZID=Europe/Paris:20071120T200000
DTEND;TZID=Europe/Paris:20071120T220000
DTSTAMP:20260422T155244
CREATED:20071015T121128Z
LAST-MODIFIED:20190404T172531Z
UID:300-1195588800-1195596000@sampil.fr
SUMMARY:Stratégie de Transfert
DESCRIPTION:Pierre Zitoun\nLe Double transfert \nMartine Dumont\nDouble Transfer
URL:https://sampil.fr/event/strategie-de-transfert/
LOCATION:Crowne Plaza Neuilly\, 58 Boulevard Victor Hugo\, Neuilly-sur-Seine\, 92200\, France
END:VEVENT
END:VCALENDAR