BEGIN:VCALENDAR
VERSION:2.0
PRODID:-//Sampil - ECPv6.15.15//NONSGML v1.0//EN
CALSCALE:GREGORIAN
METHOD:PUBLISH
X-ORIGINAL-URL:https://sampil.fr
X-WR-CALDESC:Évènements pour Sampil
REFRESH-INTERVAL;VALUE=DURATION:PT1H
X-Robots-Tag:noindex
X-PUBLISHED-TTL:PT1H
BEGIN:VTIMEZONE
TZID:Europe/Paris
BEGIN:DAYLIGHT
TZOFFSETFROM:+0100
TZOFFSETTO:+0200
TZNAME:CEST
DTSTART:20070325T010000
END:DAYLIGHT
BEGIN:STANDARD
TZOFFSETFROM:+0200
TZOFFSETTO:+0100
TZNAME:CET
DTSTART:20071028T010000
END:STANDARD
BEGIN:DAYLIGHT
TZOFFSETFROM:+0100
TZOFFSETTO:+0200
TZNAME:CEST
DTSTART:20080330T010000
END:DAYLIGHT
BEGIN:STANDARD
TZOFFSETFROM:+0200
TZOFFSETTO:+0100
TZNAME:CET
DTSTART:20081026T010000
END:STANDARD
BEGIN:DAYLIGHT
TZOFFSETFROM:+0100
TZOFFSETTO:+0200
TZNAME:CEST
DTSTART:20090329T010000
END:DAYLIGHT
BEGIN:STANDARD
TZOFFSETFROM:+0200
TZOFFSETTO:+0100
TZNAME:CET
DTSTART:20091025T010000
END:STANDARD
END:VTIMEZONE
BEGIN:VEVENT
DTSTART;TZID=Europe/Paris:20081125T200000
DTEND;TZID=Europe/Paris:20081125T220000
DTSTAMP:20260419T234728
CREATED:20081015T120702Z
LAST-MODIFIED:20190404T172531Z
UID:294-1227643200-1227650400@sampil.fr
SUMMARY:Cancer et Fertilité du Couple
DESCRIPTION:Patrick Madelenat\nStratégie et Place de la Chirurgie avant et après AMP – \nMichel Mouly\nStratégie et Place de la Chirurgie avant et après AMP – \nSilvia Alvarez\nPrise en charge en AMP après cancer féminin – \nDominique Marmor\nIncidence des Traitements anticancéreux sur le Sperme
URL:https://sampil.fr/event/cancer-et-fertilite-du-couple/
LOCATION:Crowne Plaza Neuilly\, 58 Boulevard Victor Hugo\, Neuilly-sur-Seine\, 92200\, France
END:VEVENT
END:VCALENDAR