BEGIN:VCALENDAR
VERSION:2.0
PRODID:-//Sampil - ECPv6.15.15//NONSGML v1.0//EN
CALSCALE:GREGORIAN
METHOD:PUBLISH
X-WR-CALNAME:Sampil
X-ORIGINAL-URL:https://sampil.fr
X-WR-CALDESC:Évènements pour Sampil
REFRESH-INTERVAL;VALUE=DURATION:PT1H
X-Robots-Tag:noindex
X-PUBLISHED-TTL:PT1H
BEGIN:VTIMEZONE
TZID:Europe/Paris
BEGIN:DAYLIGHT
TZOFFSETFROM:+0100
TZOFFSETTO:+0200
TZNAME:CEST
DTSTART:20080330T010000
END:DAYLIGHT
BEGIN:STANDARD
TZOFFSETFROM:+0200
TZOFFSETTO:+0100
TZNAME:CET
DTSTART:20081026T010000
END:STANDARD
BEGIN:DAYLIGHT
TZOFFSETFROM:+0100
TZOFFSETTO:+0200
TZNAME:CEST
DTSTART:20090329T010000
END:DAYLIGHT
BEGIN:STANDARD
TZOFFSETFROM:+0200
TZOFFSETTO:+0100
TZNAME:CET
DTSTART:20091025T010000
END:STANDARD
BEGIN:DAYLIGHT
TZOFFSETFROM:+0100
TZOFFSETTO:+0200
TZNAME:CEST
DTSTART:20100328T010000
END:DAYLIGHT
BEGIN:STANDARD
TZOFFSETFROM:+0200
TZOFFSETTO:+0100
TZNAME:CET
DTSTART:20101031T010000
END:STANDARD
END:VTIMEZONE
BEGIN:VEVENT
DTSTART;TZID=Europe/Paris:20090611T200000
DTEND;TZID=Europe/Paris:20090611T220000
DTSTAMP:20260419T142934
CREATED:20090515T120408Z
LAST-MODIFIED:20190404T172531Z
UID:290-1244750400-1244757600@sampil.fr
SUMMARY:Intérêt de l' apport de LH/HCG
DESCRIPTION:en stimulation – Vitrification – MIV\nSilvia Alvarez – Paris\nNouvelles techniques en AMP: Stimulations moderées Apport de LH/HCG en cours de stimulation – Effet de mode ou réel intérêt \nPaul Barrière – Nantes\nControverses sur les apports de la LH et de l’hCG en complément de la FSH dans les protocoles de multi-folliculogénèse en FIV – \nPierre Boyer\, Marseille\nLa Vitrification des ovocytes \nNelly Achour Frydman\, Laeticia Hesters\, Clamart\nLa maturation in vitro des ovocytes \nAnimée par Eric Sedbon\nDiscussion des participants
URL:https://sampil.fr/event/interet-de-l-apport-de-lh-hcg/
LOCATION:Crowne Plaza Neuilly\, 58 Boulevard Victor Hugo\, Neuilly-sur-Seine\, 92200\, France
END:VEVENT
END:VCALENDAR